BEGIN:VCALENDAR
VERSION:2.0
PRODID:-//COUCOUCOOL - ECPv6.15.18//NONSGML v1.0//EN
CALSCALE:GREGORIAN
METHOD:PUBLISH
X-WR-CALNAME:COUCOUCOOL
X-ORIGINAL-URL:http://www.coucoucool.com
X-WR-CALDESC:Évènements pour COUCOUCOOL
REFRESH-INTERVAL;VALUE=DURATION:PT1H
X-Robots-Tag:noindex
X-PUBLISHED-TTL:PT1H
BEGIN:VTIMEZONE
TZID:Europe/Paris
BEGIN:DAYLIGHT
TZOFFSETFROM:+0100
TZOFFSETTO:+0200
TZNAME:CEST
DTSTART:20250330T010000
END:DAYLIGHT
BEGIN:STANDARD
TZOFFSETFROM:+0200
TZOFFSETTO:+0100
TZNAME:CET
DTSTART:20251026T010000
END:STANDARD
BEGIN:DAYLIGHT
TZOFFSETFROM:+0100
TZOFFSETTO:+0200
TZNAME:CEST
DTSTART:20260329T010000
END:DAYLIGHT
BEGIN:STANDARD
TZOFFSETFROM:+0200
TZOFFSETTO:+0100
TZNAME:CET
DTSTART:20261025T010000
END:STANDARD
BEGIN:DAYLIGHT
TZOFFSETFROM:+0100
TZOFFSETTO:+0200
TZNAME:CEST
DTSTART:20270328T010000
END:DAYLIGHT
BEGIN:STANDARD
TZOFFSETFROM:+0200
TZOFFSETTO:+0100
TZNAME:CET
DTSTART:20271031T010000
END:STANDARD
END:VTIMEZONE
BEGIN:VEVENT
DTSTART;VALUE=DATE:20260412
DTEND;VALUE=DATE:20260413
DTSTAMP:20260420T190107
CREATED:20260326T120411Z
LAST-MODIFIED:20260326T155531Z
UID:1687-1775952000-1776038399@www.coucoucool.com
SUMMARY:Dimanche 12 avril - MATCH - La Nouvelle Vague - Saint-Malo (35)
DESCRIPTION:
URL:http://www.coucoucool.com/event/dimanche-12-avril-match-la-nouvelle-vague-saint-malo-35/
CATEGORIES:MATCH
END:VEVENT
END:VCALENDAR