BEGIN:VCALENDAR
VERSION:2.0
PRODID:-//COUCOUCOOL - ECPv6.15.18//NONSGML v1.0//EN
CALSCALE:GREGORIAN
METHOD:PUBLISH
X-WR-CALNAME:COUCOUCOOL
X-ORIGINAL-URL:https://www.coucoucool.com
X-WR-CALDESC:Évènements pour COUCOUCOOL
REFRESH-INTERVAL;VALUE=DURATION:PT1H
X-Robots-Tag:noindex
X-PUBLISHED-TTL:PT1H
BEGIN:VTIMEZONE
TZID:Europe/Paris
BEGIN:DAYLIGHT
TZOFFSETFROM:+0100
TZOFFSETTO:+0200
TZNAME:CEST
DTSTART:20250330T010000
END:DAYLIGHT
BEGIN:STANDARD
TZOFFSETFROM:+0200
TZOFFSETTO:+0100
TZNAME:CET
DTSTART:20251026T010000
END:STANDARD
BEGIN:DAYLIGHT
TZOFFSETFROM:+0100
TZOFFSETTO:+0200
TZNAME:CEST
DTSTART:20260329T010000
END:DAYLIGHT
BEGIN:STANDARD
TZOFFSETFROM:+0200
TZOFFSETTO:+0100
TZNAME:CET
DTSTART:20261025T010000
END:STANDARD
BEGIN:DAYLIGHT
TZOFFSETFROM:+0100
TZOFFSETTO:+0200
TZNAME:CEST
DTSTART:20270328T010000
END:DAYLIGHT
BEGIN:STANDARD
TZOFFSETFROM:+0200
TZOFFSETTO:+0100
TZNAME:CET
DTSTART:20271031T010000
END:STANDARD
END:VTIMEZONE
BEGIN:VEVENT
DTSTART;VALUE=DATE:20260725
DTEND;VALUE=DATE:20260726
DTSTAMP:20260420T233500
CREATED:20260420T080839Z
LAST-MODIFIED:20260420T080839Z
UID:1732-1784937600-1785023999@www.coucoucool.com
SUMMARY:Samedi 25 juillet - MATCH - Festival Rock and Beer - Brétignolles-sur-Mer (85)
DESCRIPTION:
URL:https://www.coucoucool.com/event/samedi-25-juillet-match-festival-rock-and-beer-bretignolles-sur-mer-85/
CATEGORIES:MATCH
END:VEVENT
END:VCALENDAR