BEGIN:VCALENDAR
VERSION:2.0
PRODID:-//COUCOUCOOL - ECPv6.15.18//NONSGML v1.0//EN
CALSCALE:GREGORIAN
METHOD:PUBLISH
X-WR-CALNAME:COUCOUCOOL
X-ORIGINAL-URL:https://www.coucoucool.com
X-WR-CALDESC:Évènements pour COUCOUCOOL
REFRESH-INTERVAL;VALUE=DURATION:PT1H
X-Robots-Tag:noindex
X-PUBLISHED-TTL:PT1H
BEGIN:VTIMEZONE
TZID:Europe/Paris
BEGIN:DAYLIGHT
TZOFFSETFROM:+0100
TZOFFSETTO:+0200
TZNAME:CEST
DTSTART:20250330T010000
END:DAYLIGHT
BEGIN:STANDARD
TZOFFSETFROM:+0200
TZOFFSETTO:+0100
TZNAME:CET
DTSTART:20251026T010000
END:STANDARD
BEGIN:DAYLIGHT
TZOFFSETFROM:+0100
TZOFFSETTO:+0200
TZNAME:CEST
DTSTART:20260329T010000
END:DAYLIGHT
BEGIN:STANDARD
TZOFFSETFROM:+0200
TZOFFSETTO:+0100
TZNAME:CET
DTSTART:20261025T010000
END:STANDARD
BEGIN:DAYLIGHT
TZOFFSETFROM:+0100
TZOFFSETTO:+0200
TZNAME:CEST
DTSTART:20270328T010000
END:DAYLIGHT
BEGIN:STANDARD
TZOFFSETFROM:+0200
TZOFFSETTO:+0100
TZNAME:CET
DTSTART:20271031T010000
END:STANDARD
END:VTIMEZONE
BEGIN:VEVENT
DTSTART;VALUE=DATE:20261021
DTEND;VALUE=DATE:20261022
DTSTAMP:20260421T043531
CREATED:20260326T120604Z
LAST-MODIFIED:20260326T155155Z
UID:1699-1792540800-1792627199@www.coucoucool.com
SUMMARY:Mercredi 21 octobre - MATCH - Festival Mômes d'Automne - Montauban de Bretagne (35)
DESCRIPTION:
URL:https://www.coucoucool.com/event/mercredi-21-octobre-match-festival-momes-dautomne-montauban-de-bretagne-35/
CATEGORIES:MATCH
END:VEVENT
END:VCALENDAR